BEGIN:VCALENDAR
VERSION:2.0
PRODID:-//time.you/holidays//NONSGML v1.0//EN
BEGIN:VEVENT
UID:1aa7ad64-80b0-430f-a82b-ce5567d78c33
DTSTAMP:20260421T040721Z
DTSTART;VALUE=DATE:20261225
SUMMARY:Christmas Day (Botswana)
END:VEVENT
END:VCALENDAR