BEGIN:VCALENDAR
VERSION:2.0
PRODID:-//time.you/holidays//NONSGML v1.0//EN
BEGIN:VEVENT
UID:82253450-a161-4a61-befa-90ed67718475
DTSTAMP:20260420T112134Z
DTSTART;VALUE=DATE:20260406
SUMMARY:Easter Monday (Botswana)
END:VEVENT
END:VCALENDAR