BEGIN:VCALENDAR
VERSION:2.0
PRODID:-//time.you/holidays//NONSGML v1.0//EN
BEGIN:VEVENT
UID:0fd3f00b-16de-478a-9545-b5988730c9c5
DTSTAMP:20260420T200527Z
DTSTART;VALUE=DATE:20260403
SUMMARY:Good Friday (Botswana)
END:VEVENT
END:VCALENDAR