BEGIN:VCALENDAR
VERSION:2.0
PRODID:-//time.you/holidays//NONSGML v1.0//EN
BEGIN:VEVENT
UID:ca3806dc-5cca-441e-8237-59be352eae60
DTSTAMP:20260420T204701Z
DTSTART;VALUE=DATE:20260404
SUMMARY:Holy Saturday (Botswana)
END:VEVENT
END:VCALENDAR