BEGIN:VCALENDAR
VERSION:2.0
PRODID:-//time.you/holidays//NONSGML v1.0//EN
BEGIN:VEVENT
UID:908ff2ce-621f-4e87-b5b7-14435fc82596
DTSTAMP:20260421T155129Z
DTSTART;VALUE=DATE:20260721
SUMMARY:President's Day Holiday (Botswana)
END:VEVENT
END:VCALENDAR