BEGIN:VCALENDAR
VERSION:2.0
PRODID:-//time.you/holidays//NONSGML v1.0//EN
BEGIN:VEVENT
UID:cec22846-d54a-4698-a64b-084ba0e9731c
DTSTAMP:20260420T150319Z
DTSTART;VALUE=DATE:20260720
SUMMARY:President's Day (Botswana)
END:VEVENT
END:VCALENDAR