BEGIN:VCALENDAR
VERSION:2.0
PRODID:-//time.you/holidays//NONSGML v1.0//EN
BEGIN:VEVENT
UID:a7e2fad6-2aea-431b-94dc-e1248ee67f61
DTSTAMP:20260421T205428Z
DTSTART;VALUE=DATE:20260701
SUMMARY:Sir Seretse Khama Day (Botswana)
END:VEVENT
END:VCALENDAR