BEGIN:VCALENDAR
VERSION:2.0
PRODID:-//time.you/holidays//NONSGML v1.0//EN
BEGIN:VEVENT
UID:c14a3689-a330-4393-b839-228bc5e97899
DTSTAMP:20260421T143233Z
DTSTART;VALUE=DATE:20260709
SUMMARY:Constitutionalist Revolution (Brazil)
END:VEVENT
END:VCALENDAR