BEGIN:VCALENDAR
VERSION:2.0
PRODID:-//time.you/holidays//NONSGML v1.0//EN
BEGIN:VEVENT
UID:095c636c-fca4-48fa-9c20-11e0ef600488
DTSTAMP:20260422T021313Z
DTSTART;VALUE=DATE:20260421
SUMMARY:Founding of Brasilia; Tiradentes' Day (Brazil)
END:VEVENT
END:VCALENDAR