BEGIN:VCALENDAR
VERSION:2.0
PRODID:-//time.you/holidays//NONSGML v1.0//EN
BEGIN:VEVENT
UID:9b36e82d-bceb-4ef7-8fed-8a2f0b91b28d
DTSTAMP:20260423T111828Z
DTSTART;VALUE=DATE:20260403
SUMMARY:Good Friday (Brazil)
END:VEVENT
END:VCALENDAR