BEGIN:VCALENDAR
VERSION:2.0
PRODID:-//time.you/holidays//NONSGML v1.0//EN
BEGIN:VEVENT
UID:f4d11e23-934c-4876-9264-7b7f8357c443
DTSTAMP:20260420T232459Z
DTSTART;VALUE=DATE:20260907
SUMMARY:Independence Day (Brazil)
END:VEVENT
END:VCALENDAR