BEGIN:VCALENDAR
VERSION:2.0
PRODID:-//time.you/holidays//NONSGML v1.0//EN
BEGIN:VEVENT
UID:4c32a6c7-2891-42de-8833-c51a7f693686
DTSTAMP:20260422T020833Z
DTSTART;VALUE=DATE:20260308
SUMMARY:International Women's Day (Brazil)
END:VEVENT
END:VCALENDAR