BEGIN:VCALENDAR
VERSION:2.0
PRODID:-//time.you/holidays//NONSGML v1.0//EN
BEGIN:VEVENT
UID:6da8b910-0d75-4330-8c59-28fd14845cdf
DTSTAMP:20260420T064827Z
DTSTART;VALUE=DATE:20261120
SUMMARY:National Day of Zumbi and Black Awareness (Brazil)
END:VEVENT
END:VCALENDAR