BEGIN:VCALENDAR
VERSION:2.0
PRODID:-//time.you/holidays//NONSGML v1.0//EN
BEGIN:VEVENT
UID:c8442081-7c51-4d9d-a343-8ffdd58c7a2c
DTSTAMP:20260420T033636Z
DTSTART;VALUE=DATE:20261012
SUMMARY:Our Lady of Aparecida (Brazil)
END:VEVENT
END:VCALENDAR