BEGIN:VCALENDAR
VERSION:2.0
PRODID:-//time.you/holidays//NONSGML v1.0//EN
BEGIN:VEVENT
UID:8736212d-5a2e-45bc-a6a5-924a8c654043
DTSTAMP:20260422T112238Z
DTSTART;VALUE=DATE:20260301
SUMMARY:Pernambuco Revolution (Brazil)
END:VEVENT
END:VCALENDAR