BEGIN:VCALENDAR
VERSION:2.0
PRODID:-//time.you/holidays//NONSGML v1.0//EN
BEGIN:VEVENT
UID:c22447f7-04d4-44c9-9f1c-f028cf545d56
DTSTAMP:20260421T224729Z
DTSTART;VALUE=DATE:20260807
SUMMARY:Rio Grande do Norte Day (Brazil)
END:VEVENT
END:VCALENDAR