BEGIN:VCALENDAR
VERSION:2.0
PRODID:-//time.you/holidays//NONSGML v1.0//EN
BEGIN:VEVENT
UID:9de75f6b-672a-4154-bf8b-d00c82d3da66
DTSTAMP:20260421T222650Z
DTSTART;VALUE=DATE:20260423
SUMMARY:Saint George's Day (Brazil)
END:VEVENT
END:VCALENDAR