BEGIN:VCALENDAR
VERSION:2.0
PRODID:-//time.you/holidays//NONSGML v1.0//EN
BEGIN:VEVENT
UID:0a8271d5-bf99-463e-bb1f-3e6341c2fb85
DTSTAMP:20260421T012933Z
DTSTART;VALUE=DATE:20260101
SUMMARY:Universal Fraternization Day (Brazil)
END:VEVENT
END:VCALENDAR