BEGIN:VCALENDAR
VERSION:2.0
PRODID:-//time.you/holidays//NONSGML v1.0//EN
BEGIN:VEVENT
UID:ef56ef03-d29a-4e96-8590-8bfd0dabbe96
DTSTAMP:20260420T100519Z
DTSTART;VALUE=DATE:20261226
SUMMARY:Boxing Day (British Virgin Islands)
END:VEVENT
END:VCALENDAR