BEGIN:VCALENDAR
VERSION:2.0
PRODID:-//time.you/holidays//NONSGML v1.0//EN
BEGIN:VEVENT
UID:1c1e7d0d-7300-4fd0-8500-8b7ef4345fb7
DTSTAMP:20260421T205454Z
DTSTART;VALUE=DATE:20261225
SUMMARY:Christmas Day (British Virgin Islands)
END:VEVENT
END:VCALENDAR