BEGIN:VCALENDAR
VERSION:2.0
PRODID:-//time.you/holidays//NONSGML v1.0//EN
BEGIN:VEVENT
UID:079c458f-5e84-4f3e-add4-8c42e69f5ad1
DTSTAMP:20260421T230825Z
DTSTART;VALUE=DATE:20260306
SUMMARY:Anniversary of the revelation of the Quran (estimated) (Brunei)
END:VEVENT
END:VCALENDAR