BEGIN:VCALENDAR
VERSION:2.0
PRODID:-//time.you/holidays//NONSGML v1.0//EN
BEGIN:VEVENT
UID:b83ba63a-002f-4543-b598-befc50831b3b
DTSTAMP:20260420T125832Z
DTSTART;VALUE=DATE:20260323
SUMMARY:Eid al-Fitr (observed, estimated) (Brunei)
END:VEVENT
END:VCALENDAR