BEGIN:VCALENDAR
VERSION:2.0
PRODID:-//time.you/holidays//NONSGML v1.0//EN
BEGIN:VEVENT
UID:b57e3d65-1dec-4a4f-8ac1-78df0172ae41
DTSTAMP:20260425T112618Z
DTSTART;VALUE=DATE:20260616
SUMMARY:Islamic New Year (estimated) (Brunei)
END:VEVENT
END:VCALENDAR