BEGIN:VCALENDAR
VERSION:2.0
PRODID:-//time.you/holidays//NONSGML v1.0//EN
BEGIN:VEVENT
UID:4dcd61c3-1bca-48a0-be50-83290eb3b05c
DTSTAMP:20260424T053316Z
DTSTART;VALUE=DATE:20260217
SUMMARY:Lunar New Year (Brunei)
END:VEVENT
END:VCALENDAR