BEGIN:VCALENDAR
VERSION:2.0
PRODID:-//time.you/holidays//NONSGML v1.0//EN
BEGIN:VEVENT
UID:0ab41b31-73bd-4d2e-a95b-d08c79d8ed46
DTSTAMP:20260420T053930Z
DTSTART;VALUE=DATE:20260223
SUMMARY:National Day (Brunei)
END:VEVENT
END:VCALENDAR