BEGIN:VCALENDAR
VERSION:2.0
PRODID:-//time.you/holidays//NONSGML v1.0//EN
BEGIN:VEVENT
UID:59b74017-41be-4e46-91b7-f7c7cb9415b0
DTSTAMP:20260422T065726Z
DTSTART;VALUE=DATE:20260825
SUMMARY:Prophet's Birthday (estimated) (Brunei)
END:VEVENT
END:VCALENDAR