BEGIN:VCALENDAR
VERSION:2.0
PRODID:-//time.you/holidays//NONSGML v1.0//EN
BEGIN:VEVENT
UID:7c50c2e9-ef55-40eb-bd12-f88e31cb3224
DTSTAMP:20260420T153000Z
DTSTART;VALUE=DATE:20260524
SUMMARY:Day of Slavonic Alphabet, Bulgarian Enlightenment and Culture (Bulgaria)
END:VEVENT
END:VCALENDAR