BEGIN:VCALENDAR
VERSION:2.0
PRODID:-//time.you/holidays//NONSGML v1.0//EN
BEGIN:VEVENT
UID:6f5e9cca-3b8a-4a04-a2a1-c402bcc328f5
DTSTAMP:20260424T111531Z
DTSTART;VALUE=DATE:20240506
SUMMARY:Easter; Saint George's Day (Day of the Bulgarian Army) (Bulgaria)
END:VEVENT
END:VCALENDAR