BEGIN:VCALENDAR
VERSION:2.0
PRODID:-//time.you/holidays//NONSGML v1.0//EN
BEGIN:VEVENT
UID:bbd7826d-c098-40b8-93bf-d5366c1fdca7
DTSTAMP:20260424T051359Z
DTSTART;VALUE=DATE:20290924
SUMMARY:Independence Day (observed) (Bulgaria)
END:VEVENT
END:VCALENDAR