BEGIN:VCALENDAR
VERSION:2.0
PRODID:-//time.you/holidays//NONSGML v1.0//EN
BEGIN:VEVENT
UID:153d6490-17a9-4156-befd-34742ac505fa
DTSTAMP:20260424T070945Z
DTSTART;VALUE=DATE:20280508
SUMMARY:Saint George's Day (Day of the Bulgarian Army) (observed) (Bulgaria)
END:VEVENT
END:VCALENDAR