BEGIN:VCALENDAR
VERSION:2.0
PRODID:-//time.you/holidays//NONSGML v1.0//EN
BEGIN:VEVENT
UID:84e0cd72-e885-42f6-92f3-9cf56e8d562a
DTSTAMP:20260420T141118Z
DTSTART;VALUE=DATE:20260506
SUMMARY:Saint George's Day (Day of the Bulgarian Army) (Bulgaria)
END:VEVENT
END:VCALENDAR