BEGIN:VCALENDAR
VERSION:2.0
PRODID:-//time.you/holidays//NONSGML v1.0//EN
BEGIN:VEVENT
UID:5a37a4b5-9993-457b-b3b7-58c73426dc9c
DTSTAMP:20260420T062519Z
DTSTART;VALUE=DATE:20261102
SUMMARY:All Saints' Day (observed) (Burkina Faso)
END:VEVENT
END:VCALENDAR