BEGIN:VCALENDAR
VERSION:2.0
PRODID:-//time.you/holidays//NONSGML v1.0//EN
BEGIN:VEVENT
UID:b51d9dd0-92ef-472c-a357-a61171383a78
DTSTAMP:20260420T013826Z
DTSTART;VALUE=DATE:20261225
SUMMARY:Christmas Day (Burkina Faso)
END:VEVENT
END:VCALENDAR