BEGIN:VCALENDAR
VERSION:2.0
PRODID:-//time.you/holidays//NONSGML v1.0//EN
BEGIN:VEVENT
UID:c9a8f011-910c-4167-ade9-4e36de41257e
DTSTAMP:20260422T012346Z
DTSTART;VALUE=DATE:20260805
SUMMARY:Independence Day (Burkina Faso)
END:VEVENT
END:VCALENDAR