BEGIN:VCALENDAR
VERSION:2.0
PRODID:-//time.you/holidays//NONSGML v1.0//EN
BEGIN:VEVENT
UID:5bc61c60-0efe-4519-bd23-f92da01f15ea
DTSTAMP:20260420T021757Z
DTSTART;VALUE=DATE:20260501
SUMMARY:Labour Day (Burkina Faso)
END:VEVENT
END:VCALENDAR