BEGIN:VCALENDAR
VERSION:2.0
PRODID:-//time.you/holidays//NONSGML v1.0//EN
BEGIN:VEVENT
UID:463f9539-7386-48ae-bb65-8747cba8f65e
DTSTAMP:20260422T073838Z
DTSTART;VALUE=DATE:20331212
SUMMARY:Proclamation of Independence Day (observed) (Burkina Faso)
END:VEVENT
END:VCALENDAR