BEGIN:VCALENDAR
VERSION:2.0
PRODID:-//time.you/holidays//NONSGML v1.0//EN
BEGIN:VEVENT
UID:d956422c-7a74-4c04-9c6e-9e0dcb96c4c6
DTSTAMP:20260424T063138Z
DTSTART;VALUE=DATE:20260815
SUMMARY:Assumption Day (Burundi)
END:VEVENT
END:VCALENDAR