BEGIN:VCALENDAR
VERSION:2.0
PRODID:-//time.you/holidays//NONSGML v1.0//EN
BEGIN:VEVENT
UID:bcf12808-19ad-48ec-b8a8-81ad5b0c9c4c
DTSTAMP:20260423T102217Z
DTSTART;VALUE=DATE:20331226
SUMMARY:Christmas Day (observed) (Burundi)
END:VEVENT
END:VCALENDAR