BEGIN:VCALENDAR
VERSION:2.0
PRODID:-//time.you/holidays//NONSGML v1.0//EN
BEGIN:VEVENT
UID:0b491947-15ca-477a-b7df-fa6ca4fc4a83
DTSTAMP:20260424T200830Z
DTSTART;VALUE=DATE:20261225
SUMMARY:Christmas Day (Burundi)
END:VEVENT
END:VCALENDAR