BEGIN:VCALENDAR
VERSION:2.0
PRODID:-//time.you/holidays//NONSGML v1.0//EN
BEGIN:VEVENT
UID:6c1baa46-f5ad-46d5-8c9d-d54f396ad548
DTSTAMP:20260421T234401Z
DTSTART;VALUE=DATE:20310407
SUMMARY:Commemoration of the Assassination of President Cyprien Ntaryamira (observed) (Burundi)
END:VEVENT
END:VCALENDAR