BEGIN:VCALENDAR
VERSION:2.0
PRODID:-//time.you/holidays//NONSGML v1.0//EN
BEGIN:VEVENT
UID:d417ceba-6235-4485-931e-79604c97e731
DTSTAMP:20260420T090333Z
DTSTART;VALUE=DATE:20261021
SUMMARY:Commemoration of the Assassination of President Melchior Ndadaye (Burundi)
END:VEVENT
END:VCALENDAR