BEGIN:VCALENDAR
VERSION:2.0
PRODID:-//time.you/holidays//NONSGML v1.0//EN
BEGIN:VEVENT
UID:54c6c7cb-0ada-4442-8124-7590a5ce92c3
DTSTAMP:20260420T104632Z
DTSTART;VALUE=DATE:20260527
SUMMARY:Eid al-Adha (estimated) (Burundi)
END:VEVENT
END:VCALENDAR