BEGIN:VCALENDAR
VERSION:2.0
PRODID:-//time.you/holidays//NONSGML v1.0//EN
BEGIN:VEVENT
UID:a6aed889-19c2-446e-a3fe-1b95eb0c898f
DTSTAMP:20260424T104622Z
DTSTART;VALUE=DATE:20270517
SUMMARY:Eid al-Adha (observed, estimated) (Burundi)
END:VEVENT
END:VCALENDAR