BEGIN:VCALENDAR
VERSION:2.0
PRODID:-//time.you/holidays//NONSGML v1.0//EN
BEGIN:VEVENT
UID:00a2dbbf-810b-42a2-88f3-a9f1ebd316e9
DTSTAMP:20260422T020158Z
DTSTART;VALUE=DATE:20220502
SUMMARY:Eid al-Fitr; International Labor Day (observed) (Burundi)
END:VEVENT
END:VCALENDAR