BEGIN:VCALENDAR
VERSION:2.0
PRODID:-//time.you/holidays//NONSGML v1.0//EN
BEGIN:VEVENT
UID:204fdad0-c64c-4792-98ec-03d61b1c0d7f
DTSTAMP:20260421T185539Z
DTSTART;VALUE=DATE:20250330
SUMMARY:Eid al-Fitr (Burundi)
END:VEVENT
END:VCALENDAR