BEGIN:VCALENDAR
VERSION:2.0
PRODID:-//time.you/holidays//NONSGML v1.0//EN
BEGIN:VEVENT
UID:97fec547-7e29-4842-952d-c2d7f7876634
DTSTAMP:20260420T084652Z
DTSTART;VALUE=DATE:20260501
SUMMARY:International Labor Day (Burundi)
END:VEVENT
END:VCALENDAR