BEGIN:VCALENDAR
VERSION:2.0
PRODID:-//time.you/holidays//NONSGML v1.0//EN
BEGIN:VEVENT
UID:b7ad026b-b76b-4ee8-a76c-fbf857488865
DTSTAMP:20260421T223712Z
DTSTART;VALUE=DATE:20340102
SUMMARY:New Year's Day (observed) (Burundi)
END:VEVENT
END:VCALENDAR