BEGIN:VCALENDAR
VERSION:2.0
PRODID:-//time.you/holidays//NONSGML v1.0//EN
BEGIN:VEVENT
UID:553800f8-f2fb-479c-a72c-df6fa789cdbf
DTSTAMP:20260420T225538Z
DTSTART;VALUE=DATE:20260205
SUMMARY:Unity Day (Burundi)
END:VEVENT
END:VCALENDAR