BEGIN:VCALENDAR
VERSION:2.0
PRODID:-//time.you/holidays//NONSGML v1.0//EN
BEGIN:VEVENT
UID:ae5f401f-d01d-4536-b4f5-fe26a70f5c4f
DTSTAMP:20260419T233623Z
DTSTART;VALUE=DATE:20261101
SUMMARY:All Saints' Day (Cabo Verde)
END:VEVENT
END:VCALENDAR