BEGIN:VCALENDAR
VERSION:2.0
PRODID:-//time.you/holidays//NONSGML v1.0//EN
BEGIN:VEVENT
UID:5b4317d0-e59b-4db5-9bc3-feb030067d7e
DTSTAMP:20260419T205551Z
DTSTART;VALUE=DATE:20260815
SUMMARY:Assumption Day; Mosteiros Municipality Day (Cabo Verde)
END:VEVENT
END:VCALENDAR